BEGIN:VCALENDAR
PRODID:-//www.leadingthecharge.org.nz//EN
VERSION:2.0
METHOD:PUBLISH
BEGIN:VEVENT
DTSTART;TZID=America/New_York:20260314T1000
DTEND;TZID=America/New_York:20260314T1400
URL:https://www.leadingthecharge.org.nz/upcoming-events/electricana2026/
SUMMARY:Electricarna 2026
LOCATION:Northcroft Reserve, Taupo
DESCRIPTION:Electricarna is fast approaching and we want to share something of the programme we are putting together for the event.   Since last year Northcroft Reserve has had a make-over to offer an easier layout for market stalls but that is going to suit our EV display perfectly.
END:VEVENT
END:VCALENDAR